BEGIN:VCALENDAR
VERSION:2.0
PRODID:-//Szkolenia dlaTesterów.PL
CALSCALE:GREGORIAN
METHOD:PUBLISH
X-WR-CALNAME:Szkolenia dlaTesterów.PL
X-ORIGINAL-URL:https://szkolenia.dlatesterow.pl/szkolenia/testowanie-oprogramowania-z-wykorzystaniem-ai-18-05-2026-roku/
X-WR-CALDESC:Testowanie oprogramowania z wykorzystaniem AI &#8211; 18.05.2026 roku
BEGIN:VEVENT
DTSTART;TZID=Europe/Helsinki:20260518T073000
DTEND;TZID=Europe/Helsinki:20260518T143000
SUMMARY:Testowanie oprogramowania z wykorzystaniem AI – 18.05.2026 roku
DESCRIPTION:Testowanie oprogramowania z wykorzystaniem AI to jedno z pierwszych na rynku szkoleń - które wspierają wykorzystanie narzędzi AI w testowaniu oprogramowania. Szkolenie odbywa się we wskazanej w tytule dacie – w formie spotkania - online. Szkolenie online jest nagrywane – a uczestnicy otrzymają bezpłatnie dostęp do nagrania na czas minimum 60 dni. To zwiększy szansę na dogłębne zbadanie tematyki szkolenia. 
URL:https://szkolenia.dlatesterow.pl/szkolenia/testowanie-oprogramowania-z-wykorzystaniem-ai-18-05-2026-roku/
LOCATION:
END:VEVENT
END:VCALENDAR
